BEGIN:VCALENDAR
VERSION:2.0
PRODID:-//Dhalsim Yoga Estudio - ECPv6.15.20//NONSGML v1.0//EN
CALSCALE:GREGORIAN
METHOD:PUBLISH
X-ORIGINAL-URL:https://dhalsimyogaestudio.com/en
X-WR-CALDESC:Events for Dhalsim Yoga Estudio
REFRESH-INTERVAL;VALUE=DURATION:PT1H
X-Robots-Tag:noindex
X-PUBLISHED-TTL:PT1H
BEGIN:VTIMEZONE
TZID:Europe/Madrid
BEGIN:DAYLIGHT
TZOFFSETFROM:+0100
TZOFFSETTO:+0200
TZNAME:CEST
DTSTART:20240331T010000
END:DAYLIGHT
BEGIN:STANDARD
TZOFFSETFROM:+0200
TZOFFSETTO:+0100
TZNAME:CET
DTSTART:20241027T010000
END:STANDARD
BEGIN:DAYLIGHT
TZOFFSETFROM:+0100
TZOFFSETTO:+0200
TZNAME:CEST
DTSTART:20250330T010000
END:DAYLIGHT
BEGIN:STANDARD
TZOFFSETFROM:+0200
TZOFFSETTO:+0100
TZNAME:CET
DTSTART:20251026T010000
END:STANDARD
BEGIN:DAYLIGHT
TZOFFSETFROM:+0100
TZOFFSETTO:+0200
TZNAME:CEST
DTSTART:20260329T010000
END:DAYLIGHT
BEGIN:STANDARD
TZOFFSETFROM:+0200
TZOFFSETTO:+0100
TZNAME:CET
DTSTART:20261025T010000
END:STANDARD
END:VTIMEZONE
BEGIN:VEVENT
DTSTART;TZID=Europe/Madrid:20250604T070000
DTEND;TZID=Europe/Madrid:20250604T080000
DTSTAMP:20260426T053244
CREATED:20250529T160928Z
LAST-MODIFIED:20250529T165530Z
UID:982-1749020400-1749024000@dhalsimyogaestudio.com
SUMMARY:Yoga al amanecer/ Online
DESCRIPTION:Una clase de yoga suave al amanecer es una práctica tranquila y relajante que ayuda a despertar el cuerpo y la mente. Se enfoca en estiramientos suaves\, respiración profunda y movimientos fluidos\, creando una sensación de calma y energía positiva para comenzar el día con serenidad y equilibrio. \n  \nInstrucciones para tu clase de yoga online: \n\nDescarga la aplicación de Zoom: Asegúrate de tener la app instalada en tu dispositivo antes de la clase. Puedes hacerlo desde la tienda de aplicaciones de tu móvil o tablet\, o desde su página web para ordenador. \nEnlace de acceso: Enviaremos un correo electrónico con el link para unirte a la clase\, el cual recibirás como máximo dos horas antes de la sesión. \nConfigura tu cámara: Para que la instructora pueda verte bien y hacer los ajustes necesarios\, asegúrate de colocar la cámara de tu dispositivo de manera que se vea claramente tu postura durante la práctica. \nRevisa la conexión antes de la clase: Te recomendamos que pruebes la plataforma con tiempo para asegurarte de que todo funcione correctamente en tu dispositivo. Si tienes dudas o problemas\, podemos hacer una prueba previa a la clase. \nProblemas durante la clase: Una vez que la clase haya comenzado\, no podremos ayudarte a resolver problemas técnicos relacionados con la conexión. Si llegas a experimentar dificultades\, por favor contáctanos para organizar una nueva sesión sin coste adicional. \n\nEstamos aquí para que tu experiencia sea lo más fluida y agradable posible. Si necesitas algo\, ¡no dudes en escribirnos! \n¡Nos vemos en la clase!
URL:https://dhalsimyogaestudio.com/en/event/yoga-al-amanecer-online-3/
LOCATION:Online
END:VEVENT
BEGIN:VEVENT
DTSTART;TZID=Europe/Madrid:20250604T090000
DTEND;TZID=Europe/Madrid:20250604T101500
DTSTAMP:20260426T053244
CREATED:20250529T145203Z
LAST-MODIFIED:20250530T001106Z
UID:959-1749027600-1749032100@dhalsimyogaestudio.com
SUMMARY:Prana Vinyasa Flow(Secuencia solar)/Principiantes/Tierno Galvan
DESCRIPTION:Introducción a los principios de Prana Vinyasa a través de movimientos fluidos sincronizados con la respiración\, para cultivar estabilidad\, arraigo y presencia.
URL:https://dhalsimyogaestudio.com/en/event/prana-vinyasa-flowsecuencia-solar-principiantes-tierno-galvan/
LOCATION:Parque Tierno Galván\, Junto a la estatua de Enrique Tierno Galván\, situada a la derecha de la entrada del planetario.\, MADRID\, Madrid\, 28045\, Spain
END:VEVENT
BEGIN:VEVENT
DTSTART;TZID=Europe/Madrid:20250604T110000
DTEND;TZID=Europe/Madrid:20250604T120000
DTSTAMP:20260426T053244
CREATED:20250530T003810Z
LAST-MODIFIED:20250530T003810Z
UID:1022-1749034800-1749038400@dhalsimyogaestudio.com
SUMMARY:Yoga Bebé y mamá/Online
DESCRIPTION:Sesión diseñada para mamás y sus bebés desde las 6 semanas hasta los 6 meses después del nacimiento. A través de posturas suaves y juegos de movimiento\, se fortalece el vínculo afectivo\, se estimula el desarrollo del bebé y se acompaña la recuperación física de la mamá en un ambiente relajado y amoroso. \n  \nInstrucciones para tu clase de yoga online: \n\nDescarga la aplicación de Zoom: Asegúrate de tener la app instalada en tu dispositivo antes de la clase. Puedes hacerlo desde la tienda de aplicaciones de tu móvil o tablet\, o desde su página web para ordenador.\n\nEnlace de acceso: Enviaremos un correo electrónico con el link para unirte a la clase\, el cual recibirás como máximo dos horas antes de la sesión.\n\nConfigura tu cámara: Para que la instructora pueda verte bien y hacer los ajustes necesarios\, asegúrate de colocar la cámara de tu dispositivo de manera que se vea claramente tu postura durante la práctica.\n\nRevisa la conexión antes de la clase: Te recomendamos que pruebes la plataforma con tiempo para asegurarte de que todo funcione correctamente en tu dispositivo. Si tienes dudas o problemas\, podemos hacer una prueba previa a la clase.\n\nProblemas durante la clase: Una vez que la clase haya comenzado\, no podremos ayudarte a resolver problemas técnicos relacionados con la conexión. Si llegas a experimentar dificultades\, por favor contáctanos para organizar una nueva sesión sin coste adicional.\n\n\nEstamos aquí para que tu experiencia sea lo más fluida y agradable posible. Si necesitas algo\, ¡no dudes en escribirnos! \n¡Nos vemos en la clase!
URL:https://dhalsimyogaestudio.com/en/event/yoga-bebe-y-mama-online/
LOCATION:Online
END:VEVENT
BEGIN:VEVENT
DTSTART;TZID=Europe/Madrid:20250604T124500
DTEND;TZID=Europe/Madrid:20250604T140000
DTSTAMP:20260426T053244
CREATED:20250529T162850Z
LAST-MODIFIED:20250530T001014Z
UID:995-1749041100-1749045600@dhalsimyogaestudio.com
SUMMARY:Prana Vinyasa Flow (Secuencia solar)/Principiantes/Retiro
DESCRIPTION:Introducción a los principios de Prana Vinyasa a través de movimientos fluidos sincronizados con la respiración\, para cultivar estabilidad\, arraigo y presencia.
URL:https://dhalsimyogaestudio.com/en/event/prana-vinyasa-flow-secuencia-solar-principiantes-retiro-2/
LOCATION:Parque El Retiro\, Esta sesión tiene lugar en el Parque de El Retiro en una localización cercana a la Puerta Reina Mercedes\, situada frente al metro Ibiza. Se informará de la localización exacta antes de la práctica.\, Madrid\, 28009\, Spain
END:VEVENT
BEGIN:VEVENT
DTSTART;TZID=Europe/Madrid:20250604T160000
DTEND;TZID=Europe/Madrid:20250604T170000
DTSTAMP:20260426T053244
CREATED:20250531T152509Z
LAST-MODIFIED:20250531T155910Z
UID:1295-1749052800-1749056400@dhalsimyogaestudio.com
SUMMARY:Yoga Embarazadas/Online
DESCRIPTION:Diseñada específicamente para acompañaros  durante el embarazo\, adaptándose a vuestras necesidades físicas y emocionales en cada etapa de la gestación. Estas clases se enfocan en el bienestar integral de la madre y del bebé\, promoviendo una conexión consciente con el cuerpo y la respiración. \nObjetivos principales:\n\nMejorar la postura y aliviar molestias comunes del embarazo como el dolor de espalda\, la hinchazón o el cansancio.\nFortalecer suavemente los músculos clave (suelo pélvico\, abdominales profundos\, piernas y espalda).\nFomentar la relajación y la reducción del estrés.\nPreparar mental y físicamente para el parto.\nEstablecer un espacio de apoyo y conexión con otras futuras madres\n\n  \n  \n  \nInstrucciones para tu clase de yoga online: \n\nDescarga la aplicación de Zoom: Asegúrate de tener la app instalada en tu dispositivo antes de la clase. Puedes hacerlo desde la tienda de aplicaciones de tu móvil o tablet\, o desde su página web para ordenador. \nEnlace de acceso: Enviaremos un correo electrónico con el link para unirte a la clase\, el cual recibirás como máximo dos horas antes de la sesión. \nConfigura tu cámara: Para que la instructora pueda verte bien y hacer los ajustes necesarios\, asegúrate de colocar la cámara de tu dispositivo de manera que se vea claramente tu postura durante la práctica. \nRevisa la conexión antes de la clase: Te recomendamos que pruebes la plataforma con tiempo para asegurarte de que todo funcione correctamente en tu dispositivo. Si tienes dudas o problemas\, podemos hacer una prueba previa a la clase. \nProblemas durante la clase: Una vez que la clase haya comenzado\, no podremos ayudarte a resolver problemas técnicos relacionados con la conexión. Si llegas a experimentar dificultades\, por favor contáctanos para organizar una nueva sesión sin coste adicional. \n\nEstamos aquí para que tu experiencia sea lo más fluida y agradable posible. Si necesitas algo\, ¡no dudes en escribirnos! \n¡Nos vemos en la clase!
URL:https://dhalsimyogaestudio.com/en/event/yoga-embarazadas-online-3/
LOCATION:Online
END:VEVENT
BEGIN:VEVENT
DTSTART;TZID=Europe/Madrid:20250604T183000
DTEND;TZID=Europe/Madrid:20250604T194500
DTSTAMP:20260426T053244
CREATED:20250531T174301Z
LAST-MODIFIED:20250531T174301Z
UID:1420-1749061800-1749066300@dhalsimyogaestudio.com
SUMMARY:Prana Vinyasa Flow (Secuencia solar)/Principiantes/Tierno Galvan
DESCRIPTION:Introducción a los principios de Prana Vinyasa a través de movimientos fluidos sincronizados con la respiración\, para cultivar estabilidad\, arraigo y presencia.
URL:https://dhalsimyogaestudio.com/en/event/prana-vinyasa-flow-secuencia-solar-principiantes-tierno-galvan-8/
LOCATION:Parque Tierno Galván\, Junto a la estatua de Enrique Tierno Galván\, situada a la derecha de la entrada del planetario.\, MADRID\, Madrid\, 28045\, Spain
END:VEVENT
BEGIN:VEVENT
DTSTART;TZID=Europe/Madrid:20250604T200000
DTEND;TZID=Europe/Madrid:20250604T211500
DTSTAMP:20260426T053244
CREATED:20250531T174449Z
LAST-MODIFIED:20250531T174449Z
UID:1423-1749067200-1749071700@dhalsimyogaestudio.com
SUMMARY:Prana Vinyasa Flow(Secuencia solar)/Multinivel/Tierno Galvan
DESCRIPTION:Una práctica dinámica  basada en el movimiento fluido\, ideal para activar el cuerpo\, mejorar la movilidad y liberar tensiones. Prana Vinyasa Flow combina secuencias suaves y repetitivas con respiración consciente para ayudarte a ganar fuerza\, flexibilidad y enfoque.
URL:https://dhalsimyogaestudio.com/en/event/prana-vinyasa-flowsecuencia-solar-multinivel-tierno-galvan-6/
LOCATION:Parque Tierno Galván\, Junto a la estatua de Enrique Tierno Galván\, situada a la derecha de la entrada del planetario.\, MADRID\, Madrid\, 28045\, Spain
END:VEVENT
END:VCALENDAR