BEGIN:VCALENDAR
VERSION:2.0
PRODID:-//Dhalsim Yoga Estudio - ECPv6.15.20//NONSGML v1.0//EN
CALSCALE:GREGORIAN
METHOD:PUBLISH
X-ORIGINAL-URL:https://dhalsimyogaestudio.com/en
X-WR-CALDESC:Events for Dhalsim Yoga Estudio
REFRESH-INTERVAL;VALUE=DURATION:PT1H
X-Robots-Tag:noindex
X-PUBLISHED-TTL:PT1H
BEGIN:VTIMEZONE
TZID:Europe/Madrid
BEGIN:DAYLIGHT
TZOFFSETFROM:+0100
TZOFFSETTO:+0200
TZNAME:CEST
DTSTART:20240331T010000
END:DAYLIGHT
BEGIN:STANDARD
TZOFFSETFROM:+0200
TZOFFSETTO:+0100
TZNAME:CET
DTSTART:20241027T010000
END:STANDARD
BEGIN:DAYLIGHT
TZOFFSETFROM:+0100
TZOFFSETTO:+0200
TZNAME:CEST
DTSTART:20250330T010000
END:DAYLIGHT
BEGIN:STANDARD
TZOFFSETFROM:+0200
TZOFFSETTO:+0100
TZNAME:CET
DTSTART:20251026T010000
END:STANDARD
BEGIN:DAYLIGHT
TZOFFSETFROM:+0100
TZOFFSETTO:+0200
TZNAME:CEST
DTSTART:20260329T010000
END:DAYLIGHT
BEGIN:STANDARD
TZOFFSETFROM:+0200
TZOFFSETTO:+0100
TZNAME:CET
DTSTART:20261025T010000
END:STANDARD
END:VTIMEZONE
BEGIN:VEVENT
DTSTART;TZID=Europe/Madrid:20250719T090000
DTEND;TZID=Europe/Madrid:20250719T101500
DTSTAMP:20260424T041627
CREATED:20250624T160129Z
LAST-MODIFIED:20250625T105222Z
UID:1678-1752915600-1752920100@dhalsimyogaestudio.com
SUMMARY:Yoga en La Azotea del Hotel Radisson Red Atocha
DESCRIPTION:Despierta tus sentidos con una experiencia única de yoga al aire libre sobre los tejados de Madrid. Te invitamos a comenzar tu día con una clase de Vinyasa Yoga multinivel en la espectacular azotea del Hotel Radisson RED de Atocha. \n💫 ¿Qué puedes esperar?– Una práctica fluida y energizante\, apta para todos los niveles– Increíbles vistas del skyline madrileño– La calidez del sol de la mañana y la brisa suave de la ciudad– Una experiencia que revitaliza cuerpo y mente \nNo importa si eres principiante o tienes experiencia\, esta clase está diseñada para que cada persona pueda encontrar su ritmo\, no hay mejor forma para iniciarte en el yoga. \n¡IMPORTAMTE! No te olvides la esterilla y una botella de agua. Te recomendamos llegar al punto de la actividad 10 minutos antes del inicio de la clase.
URL:https://dhalsimyogaestudio.com/en/event/yoga-en-la-azotea-del-hotel-radisson-red-atocha-2/
LOCATION:Calle de atocha 123\, centro\, Calle de Atocha 123\, Madrid\, Madrid\, 28012\, Spain
ATTACH;FMTTYPE=image/jpeg:https://dhalsimyogaestudio.com/wp-content/uploads/2025/06/VID_20250625_085632_exported_27393-e1767830750998.jpg
END:VEVENT
END:VCALENDAR