BEGIN:VCALENDAR
VERSION:2.0
PRODID:-//Dhalsim Yoga Estudio - ECPv6.15.20//NONSGML v1.0//EN
CALSCALE:GREGORIAN
METHOD:PUBLISH
X-ORIGINAL-URL:https://dhalsimyogaestudio.com/en
X-WR-CALDESC:Events for Dhalsim Yoga Estudio
REFRESH-INTERVAL;VALUE=DURATION:PT1H
X-Robots-Tag:noindex
X-PUBLISHED-TTL:PT1H
BEGIN:VTIMEZONE
TZID:Europe/Madrid
BEGIN:DAYLIGHT
TZOFFSETFROM:+0100
TZOFFSETTO:+0200
TZNAME:CEST
DTSTART:20240331T010000
END:DAYLIGHT
BEGIN:STANDARD
TZOFFSETFROM:+0200
TZOFFSETTO:+0100
TZNAME:CET
DTSTART:20241027T010000
END:STANDARD
BEGIN:DAYLIGHT
TZOFFSETFROM:+0100
TZOFFSETTO:+0200
TZNAME:CEST
DTSTART:20250330T010000
END:DAYLIGHT
BEGIN:STANDARD
TZOFFSETFROM:+0200
TZOFFSETTO:+0100
TZNAME:CET
DTSTART:20251026T010000
END:STANDARD
BEGIN:DAYLIGHT
TZOFFSETFROM:+0100
TZOFFSETTO:+0200
TZNAME:CEST
DTSTART:20260329T010000
END:DAYLIGHT
BEGIN:STANDARD
TZOFFSETFROM:+0200
TZOFFSETTO:+0100
TZNAME:CET
DTSTART:20261025T010000
END:STANDARD
END:VTIMEZONE
BEGIN:VEVENT
DTSTART;TZID=Europe/Madrid:20250908T093000
DTEND;TZID=Europe/Madrid:20250908T104500
DTSTAMP:20260423T201412
CREATED:20250829T170000Z
LAST-MODIFIED:20250829T170000Z
UID:2487-1757323800-1757328300@dhalsimyogaestudio.com
SUMMARY:Prana Vinyasa Flow /Principiantes/Tierno Galvan
DESCRIPTION:Introducción a los principios de Prana Vinyasa a través de movimientos fluidos sincronizados con la respiración\, para cultivar estabilidad\, arraigo y presencia.
URL:https://dhalsimyogaestudio.com/en/event/prana-vinyasa-flow-secuencia-solar-principiantes-tierno-galvan-8-2-2-9-6-11/
LOCATION:Parque Tierno Galván\, Junto a la estatua de Enrique Tierno Galván\, situada a la derecha de la entrada del planetario.\, MADRID\, Madrid\, 28045\, Spain
ATTACH;FMTTYPE=image/webp:https://dhalsimyogaestudio.com/wp-content/uploads/2024/11/yoga-3.webp
END:VEVENT
BEGIN:VEVENT
DTSTART;TZID=Europe/Madrid:20250908T113000
DTEND;TZID=Europe/Madrid:20250908T123000
DTSTAMP:20260423T201413
CREATED:20250831T031127Z
LAST-MODIFIED:20250831T031127Z
UID:2687-1757331000-1757334600@dhalsimyogaestudio.com
SUMMARY:Yoga Embarazadas/Online
DESCRIPTION:Diseñada específicamente para acompañaros  durante el embarazo\, adaptándose a vuestras necesidades físicas y emocionales en cada etapa de la gestación. Estas clases se enfocan en el bienestar integral de la madre y del bebé\, promoviendo una conexión consciente con el cuerpo y la respiración. \nObjetivos principales:\n\nMejorar la postura y aliviar molestias comunes del embarazo como el dolor de espalda\, la hinchazón o el cansancio.\nFortalecer suavemente los músculos clave (suelo pélvico\, abdominales profundos\, piernas y espalda).\nFomentar la relajación y la reducción del estrés.\nPreparar mental y físicamente para el parto.\nEstablecer un espacio de apoyo y conexión con otras futuras madres\n\n  \n  \nInstrucciones para tu clase de yoga online: \n\nDescarga la aplicación de Zoom: Asegúrate de tener la app instalada en tu dispositivo antes de la clase. Puedes hacerlo desde la tienda de aplicaciones de tu móvil o tablet\, o desde su página web para ordenador. \nEnlace de acceso: Enviaremos un correo electrónico con el link para unirte a la clase\, el cual recibirás como máximo dos horas antes de la sesión. \nConfigura tu cámara: Para que la instructora pueda verte bien y hacer los ajustes necesarios\, asegúrate de colocar la cámara de tu dispositivo de manera que se vea claramente tu postura durante la práctica. \nRevisa la conexión antes de la clase: Te recomendamos que pruebes la plataforma con tiempo para asegurarte de que todo funcione correctamente en tu dispositivo. Si tienes dudas o problemas\, podemos hacer una prueba previa a la clase. \nProblemas durante la clase: Una vez que la clase haya comenzado\, no podremos ayudarte a resolver problemas técnicos relacionados con la conexión. Si llegas a experimentar dificultades\, por favor contáctanos para organizar una nueva sesión sin coste adicional. \n\nEstamos aquí para que tu experiencia sea lo más fluida y agradable posible. Si necesitas algo\, ¡no dudes en escribirnos! \n¡Nos vemos en la clase!
URL:https://dhalsimyogaestudio.com/en/event/yoga-embarazadas-online-24/
LOCATION:Online
END:VEVENT
BEGIN:VEVENT
DTSTART;TZID=Europe/Madrid:20250908T170000
DTEND;TZID=Europe/Madrid:20250908T184500
DTSTAMP:20260423T201413
CREATED:20250831T022344Z
LAST-MODIFIED:20250831T022344Z
UID:2630-1757350800-1757357100@dhalsimyogaestudio.com
SUMMARY:Prana Vinyasa Flow/Multinivel/Online
DESCRIPTION:Una práctica dinámica  basada en el movimiento fluido\, ideal para activar el cuerpo\, mejorar la movilidad y liberar tensiones. Prana Vinyasa Flow combina secuencias suaves y repetitivas con respiración consciente para ayudarte a ganar fuerza\, flexibilidad y enfoque. \nInstrucciones para tu clase de yoga online: \n\nDescarga la aplicación de Zoom: Asegúrate de tener la app instalada en tu dispositivo antes de la clase. Puedes hacerlo desde la tienda de aplicaciones de tu móvil o tablet\, o desde su página web para ordenador.\nEnlace de acceso: Enviaremos un correo electrónico con el link para unirte a la clase\, el cual recibirás como máximo dos horas antes de la sesión.\nConfigura tu cámara: Para que la instructora pueda verte bien y hacer los ajustes necesarios\, asegúrate de colocar la cámara de tu dispositivo de manera que se vea claramente tu postura durante la práctica.\nRevisa la conexión antes de la clase: Te recomendamos que pruebes la plataforma con tiempo para asegurarte de que todo funcione correctamente en tu dispositivo. Si tienes dudas o problemas\, podemos hacer una prueba previa a la clase.\nProblemas durante la clase: Una vez que la clase haya comenzado\, no podremos ayudarte a resolver problemas técnicos relacionados con la conexión. Si llegas a experimentar dificultades\, por favor contáctanos para organizar una nueva sesión sin coste adicional.\n\nEstamos aquí para que tu experiencia sea lo más fluida y agradable posible. Si necesitas algo\, ¡no dudes en escribirnos! \n¡Nos vemos en la clase!
URL:https://dhalsimyogaestudio.com/en/event/prana-vinyasa-flowsecuencia-solar-multinivel-tierno-galvan-16-2-2-4-14-13-26-2/
LOCATION:Online
ATTACH;FMTTYPE=image/jpeg:https://dhalsimyogaestudio.com/wp-content/uploads/2024/11/yoga-2.jpeg
END:VEVENT
BEGIN:VEVENT
DTSTART;TZID=Europe/Madrid:20250908T200000
DTEND;TZID=Europe/Madrid:20250908T211500
DTSTAMP:20260423T201413
CREATED:20250907T145536Z
LAST-MODIFIED:20250907T145536Z
UID:2719-1757361600-1757366100@dhalsimyogaestudio.com
SUMMARY:Prana Vinyasa Flow/Multinivel/Retiro
DESCRIPTION:Una práctica dinámica  basada en el movimiento fluido\, ideal para activar el cuerpo\, mejorar la movilidad y liberar tensiones. Prana Vinyasa Flow combina secuencias suaves y repetitivas con respiración consciente para ayudarte a ganar fuerza\, flexibilidad y enfoque.
URL:https://dhalsimyogaestudio.com/en/event/prana-vinyasa-flowsecuencia-solar-multinivel-tierno-galvan-16-2-2-4-15-2/
LOCATION:Parque El Retiro\, Esta sesión tiene lugar en el Parque de El Retiro en una localización cercana a la Puerta Reina Mercedes\, situada frente al metro Ibiza. Se informará de la localización exacta antes de la práctica.\, Madrid\, 28009\, Spain
ATTACH;FMTTYPE=image/jpeg:https://dhalsimyogaestudio.com/wp-content/uploads/2024/11/yoga-2.jpeg
END:VEVENT
END:VCALENDAR