BEGIN:VCALENDAR
VERSION:2.0
PRODID:-//Dhalsim Yoga Estudio - ECPv6.15.20//NONSGML v1.0//EN
CALSCALE:GREGORIAN
METHOD:PUBLISH
X-ORIGINAL-URL:https://dhalsimyogaestudio.com/en
X-WR-CALDESC:Events for Dhalsim Yoga Estudio
REFRESH-INTERVAL;VALUE=DURATION:PT1H
X-Robots-Tag:noindex
X-PUBLISHED-TTL:PT1H
BEGIN:VTIMEZONE
TZID:Europe/Madrid
BEGIN:DAYLIGHT
TZOFFSETFROM:+0100
TZOFFSETTO:+0200
TZNAME:CEST
DTSTART:20240331T010000
END:DAYLIGHT
BEGIN:STANDARD
TZOFFSETFROM:+0200
TZOFFSETTO:+0100
TZNAME:CET
DTSTART:20241027T010000
END:STANDARD
BEGIN:DAYLIGHT
TZOFFSETFROM:+0100
TZOFFSETTO:+0200
TZNAME:CEST
DTSTART:20250330T010000
END:DAYLIGHT
BEGIN:STANDARD
TZOFFSETFROM:+0200
TZOFFSETTO:+0100
TZNAME:CET
DTSTART:20251026T010000
END:STANDARD
BEGIN:DAYLIGHT
TZOFFSETFROM:+0100
TZOFFSETTO:+0200
TZNAME:CEST
DTSTART:20260329T010000
END:DAYLIGHT
BEGIN:STANDARD
TZOFFSETFROM:+0200
TZOFFSETTO:+0100
TZNAME:CET
DTSTART:20261025T010000
END:STANDARD
END:VTIMEZONE
BEGIN:VEVENT
DTSTART;TZID=Europe/Madrid:20251021T170000
DTEND;TZID=Europe/Madrid:20251021T181500
DTSTAMP:20260423T151902
CREATED:20250928T201109Z
LAST-MODIFIED:20250928T201109Z
UID:2993-1761066000-1761070500@dhalsimyogaestudio.com
SUMMARY:Prana Vinyasa Flow /Principiantes/Tierno Galván
DESCRIPTION:Introducción a los principios de Prana Vinyasa a través de movimientos fluidos sincronizados con la respiración\, para cultivar estabilidad\, arraigo y presencia.
URL:https://dhalsimyogaestudio.com/en/event/prana-vinyasa-flow-secuencia-solar-principiantes-tierno-galvan-8-2-2-9-6-13-4-8-4/
LOCATION:Parque Tierno Galván\, Junto a la estatua de Enrique Tierno Galván\, situada a la derecha de la entrada del planetario.\, MADRID\, Madrid\, 28045\, Spain
ATTACH;FMTTYPE=image/webp:https://dhalsimyogaestudio.com/wp-content/uploads/2024/11/yoga-3.webp
END:VEVENT
END:VCALENDAR