BEGIN:VCALENDAR
VERSION:2.0
PRODID:-//Dhalsim Yoga Estudio - ECPv6.15.20//NONSGML v1.0//EN
CALSCALE:GREGORIAN
METHOD:PUBLISH
X-ORIGINAL-URL:https://dhalsimyogaestudio.com/en
X-WR-CALDESC:Events for Dhalsim Yoga Estudio
REFRESH-INTERVAL;VALUE=DURATION:PT1H
X-Robots-Tag:noindex
X-PUBLISHED-TTL:PT1H
BEGIN:VTIMEZONE
TZID:Europe/Madrid
BEGIN:DAYLIGHT
TZOFFSETFROM:+0100
TZOFFSETTO:+0200
TZNAME:CEST
DTSTART:20240331T010000
END:DAYLIGHT
BEGIN:STANDARD
TZOFFSETFROM:+0200
TZOFFSETTO:+0100
TZNAME:CET
DTSTART:20241027T010000
END:STANDARD
BEGIN:DAYLIGHT
TZOFFSETFROM:+0100
TZOFFSETTO:+0200
TZNAME:CEST
DTSTART:20250330T010000
END:DAYLIGHT
BEGIN:STANDARD
TZOFFSETFROM:+0200
TZOFFSETTO:+0100
TZNAME:CET
DTSTART:20251026T010000
END:STANDARD
BEGIN:DAYLIGHT
TZOFFSETFROM:+0100
TZOFFSETTO:+0200
TZNAME:CEST
DTSTART:20260329T010000
END:DAYLIGHT
BEGIN:STANDARD
TZOFFSETFROM:+0200
TZOFFSETTO:+0100
TZNAME:CET
DTSTART:20261025T010000
END:STANDARD
END:VTIMEZONE
BEGIN:VEVENT
DTSTART;TZID=Europe/Madrid:20251110T080000
DTEND;TZID=Europe/Madrid:20251110T090000
DTSTAMP:20260423T102420
CREATED:20251103T152400Z
LAST-MODIFIED:20251103T152400Z
UID:3130-1762761600-1762765200@dhalsimyogaestudio.com
SUMMARY:Yoga al Amanecer/Online
DESCRIPTION:Una clase de yoga suave al amanecer es una práctica tranquila y relajante que ayuda a despertar el cuerpo y la mente. Se enfoca en estiramientos suaves\, respiración profunda y movimientos fluidos\, creando una sensación de calma y energía positiva para comenzar el día con serenidad y equilibrio. \n  \nInstrucciones para tu clase de yoga online: \n\nDescarga la aplicación de Zoom: Asegúrate de tener la app instalada en tu dispositivo antes de la clase. Puedes hacerlo desde la tienda de aplicaciones de tu móvil o tablet\, o desde su página web para ordenador.\nEnlace de acceso: Enviaremos un correo electrónico con el link para unirte a la clase\, el cual recibirás como máximo dos horas antes de la sesión.\nConfigura tu cámara: Para que la instructora pueda verte bien y hacer los ajustes necesarios\, asegúrate de colocar la cámara de tu dispositivo de manera que se vea claramente tu postura durante la práctica.\nRevisa la conexión antes de la clase: Te recomendamos que pruebes la plataforma con tiempo para asegurarte de que todo funcione correctamente en tu dispositivo. Si tienes dudas o problemas\, podemos hacer una prueba previa a la clase.\nProblemas durante la clase: Una vez que la clase haya comenzado\, no podremos ayudarte a resolver problemas técnicos relacionados con la conexión. Si llegas a experimentar dificultades\, por favor contáctanos para organizar una nueva sesión sin coste adicional.\n\nEstamos aquí para que tu experiencia sea lo más fluida y agradable posible. Si necesitas algo\, ¡no dudes en escribirnos! \n¡Nos vemos en la clase!
URL:https://dhalsimyogaestudio.com/en/event/yoga-al-amanecer-online-5-6-19-4/
LOCATION:Online
END:VEVENT
BEGIN:VEVENT
DTSTART;TZID=Europe/Madrid:20251110T093000
DTEND;TZID=Europe/Madrid:20251110T103000
DTSTAMP:20260423T102420
CREATED:20251103T155652Z
LAST-MODIFIED:20251103T155652Z
UID:3197-1762767000-1762770600@dhalsimyogaestudio.com
SUMMARY:Yoga Embarazadas/Online
DESCRIPTION:Diseñada específicamente para acompañaros  durante el embarazo\, adaptándose a vuestras necesidades físicas y emocionales en cada etapa de la gestación. Estas clases se enfocan en el bienestar integral de la madre y del bebé\, promoviendo una conexión consciente con el cuerpo y la respiración. \nObjetivos principales:\n\nMejorar la postura y aliviar molestias comunes del embarazo como el dolor de espalda\, la hinchazón o el cansancio.\nFortalecer suavemente los músculos clave (suelo pélvico\, abdominales profundos\, piernas y espalda).\nFomentar la relajación y la reducción del estrés.\nPreparar mental y físicamente para el parto.\nEstablecer un espacio de apoyo y conexión con otras futuras madres\n\n  \n  \nInstrucciones para tu clase de yoga online: \n\nDescarga la aplicación de Zoom: Asegúrate de tener la app instalada en tu dispositivo antes de la clase. Puedes hacerlo desde la tienda de aplicaciones de tu móvil o tablet\, o desde su página web para ordenador.\nEnlace de acceso: Enviaremos un correo electrónico con el link para unirte a la clase\, el cual recibirás como máximo dos horas antes de la sesión.\nConfigura tu cámara: Para que la instructora pueda verte bien y hacer los ajustes necesarios\, asegúrate de colocar la cámara de tu dispositivo de manera que se vea claramente tu postura durante la práctica.\nRevisa la conexión antes de la clase: Te recomendamos que pruebes la plataforma con tiempo para asegurarte de que todo funcione correctamente en tu dispositivo. Si tienes dudas o problemas\, podemos hacer una prueba previa a la clase.\nProblemas durante la clase: Una vez que la clase haya comenzado\, no podremos ayudarte a resolver problemas técnicos relacionados con la conexión. Si llegas a experimentar dificultades\, por favor contáctanos para organizar una nueva sesión sin coste adicional.\n\nEstamos aquí para que tu experiencia sea lo más fluida y agradable posible. Si necesitas algo\, ¡no dudes en escribirnos! \n¡Nos vemos en la clase!
URL:https://dhalsimyogaestudio.com/en/event/yoga-embarazadas-online-30-2/
LOCATION:Online
END:VEVENT
BEGIN:VEVENT
DTSTART;TZID=Europe/Madrid:20251110T110000
DTEND;TZID=Europe/Madrid:20251110T121500
DTSTAMP:20260423T102420
CREATED:20251103T163200Z
LAST-MODIFIED:20251103T163200Z
UID:3248-1762772400-1762776900@dhalsimyogaestudio.com
SUMMARY:Prana Vinyasa Flow /Principiantes/Tierno Galván
DESCRIPTION:Introducción a los principios de Prana Vinyasa a través de movimientos fluidos sincronizados con la respiración\, para cultivar estabilidad\, arraigo y presencia.
URL:https://dhalsimyogaestudio.com/en/event/prana-vinyasa-flow-secuencia-solar-principiantes-tierno-galvan-8-2-2-9-6-13-4-8-6/
LOCATION:Online
ATTACH;FMTTYPE=image/webp:https://dhalsimyogaestudio.com/wp-content/uploads/2024/11/yoga-3.webp
END:VEVENT
BEGIN:VEVENT
DTSTART;TZID=Europe/Madrid:20251110T183000
DTEND;TZID=Europe/Madrid:20251110T194500
DTSTAMP:20260423T102420
CREATED:20251103T170856Z
LAST-MODIFIED:20251103T171114Z
UID:3311-1762799400-1762803900@dhalsimyogaestudio.com
SUMMARY:Prana Vinyasa Flow /Principiantes/Online
DESCRIPTION:Introducción a los principios de Prana Vinyasa a través de movimientos fluidos sincronizados con la respiración\, para cultivar estabilidad\, arraigo y presencia. \nInstrucciones para tu clase de yoga online: \n\nDescarga la aplicación de Zoom: Asegúrate de tener la app instalada en tu dispositivo antes de la clase. Puedes hacerlo desde la tienda de aplicaciones de tu móvil o tablet\, o desde su página web para ordenador.\nEnlace de acceso: Enviaremos un correo electrónico con el link para unirte a la clase\, el cual recibirás como máximo dos horas antes de la sesión.\nConfigura tu cámara: Para que la instructora pueda verte bien y hacer los ajustes necesarios\, asegúrate de colocar la cámara de tu dispositivo de manera que se vea claramente tu postura durante la práctica.\nRevisa la conexión antes de la clase: Te recomendamos que pruebes la plataforma con tiempo para asegurarte de que todo funcione correctamente en tu dispositivo. Si tienes dudas o problemas\, podemos hacer una prueba previa a la clase.\nProblemas durante la clase: Una vez que la clase haya comenzado\, no podremos ayudarte a resolver problemas técnicos relacionados con la conexión. Si llegas a experimentar dificultades\, por favor contáctanos para organizar una nueva sesión sin coste adicional.\n\nEstamos aquí para que tu experiencia sea lo más fluida y agradable posible. Si necesitas algo\, ¡no dudes en escribirnos! \n¡Nos vemos en la clase!
URL:https://dhalsimyogaestudio.com/en/event/prana-vinyasa-flow-secuencia-solar-principiantes-tierno-galvan-8-2-2-9-6-13-4-8-16-5/
LOCATION:Online
ATTACH;FMTTYPE=image/webp:https://dhalsimyogaestudio.com/wp-content/uploads/2024/11/yoga-3.webp
END:VEVENT
END:VCALENDAR