BEGIN:VCALENDAR
VERSION:2.0
PRODID:-//Dhalsim Yoga Estudio - ECPv6.15.20//NONSGML v1.0//EN
CALSCALE:GREGORIAN
METHOD:PUBLISH
X-WR-CALNAME:Dhalsim Yoga Estudio
X-ORIGINAL-URL:https://dhalsimyogaestudio.com/en
X-WR-CALDESC:Events for Dhalsim Yoga Estudio
REFRESH-INTERVAL;VALUE=DURATION:PT1H
X-Robots-Tag:noindex
X-PUBLISHED-TTL:PT1H
BEGIN:VTIMEZONE
TZID:Europe/Madrid
BEGIN:DAYLIGHT
TZOFFSETFROM:+0100
TZOFFSETTO:+0200
TZNAME:CEST
DTSTART:20250330T010000
END:DAYLIGHT
BEGIN:STANDARD
TZOFFSETFROM:+0200
TZOFFSETTO:+0100
TZNAME:CET
DTSTART:20251026T010000
END:STANDARD
BEGIN:DAYLIGHT
TZOFFSETFROM:+0100
TZOFFSETTO:+0200
TZNAME:CEST
DTSTART:20260329T010000
END:DAYLIGHT
BEGIN:STANDARD
TZOFFSETFROM:+0200
TZOFFSETTO:+0100
TZNAME:CET
DTSTART:20261025T010000
END:STANDARD
BEGIN:DAYLIGHT
TZOFFSETFROM:+0100
TZOFFSETTO:+0200
TZNAME:CEST
DTSTART:20270328T010000
END:DAYLIGHT
BEGIN:STANDARD
TZOFFSETFROM:+0200
TZOFFSETTO:+0100
TZNAME:CET
DTSTART:20271031T010000
END:STANDARD
END:VTIMEZONE
BEGIN:VEVENT
DTSTART;TZID=Europe/Madrid:20260301T100000
DTEND;TZID=Europe/Madrid:20260301T110000
DTSTAMP:20260422T111707
CREATED:20260121T025137Z
LAST-MODIFIED:20260121T025137Z
UID:4748-1772359200-1772362800@dhalsimyogaestudio.com
SUMMARY:Yoga Prenatal/Online
DESCRIPTION:Un espacio seguro y cómodo para cuidar de ti y de tu bebé sin salir de casa. \n\nAlivia molestias: Estiramientos suaves para espalda y pelvis.\n\n\nPrepárate: Técnicas de respiración para el parto y relajación.\n\n\nConecta: Meditaciones guiadas para fortalecer el vínculo con tu bebé.\n\n\nNivel: Apto para todos los trimestres (no requiere experiencia previa).\n\n\n¿Cómo funciona? Las clases se realizan en directo a través de la plataforma Zoom. La profesora te lo mandará como tarde media hora antes del inicio de la práctica.\n\nRellenar el cuestionario de salud Yoga Embarazadas que recibirás en el email de confirmación de compra.
URL:https://dhalsimyogaestudio.com/en/event/yoga-prenatal-online-15-16-18/
LOCATION:Online
ATTACH;FMTTYPE=image/png:https://dhalsimyogaestudio.com/wp-content/uploads/2026/01/54b37276-63da-4ce9-a038-1ecf252ea554-1.png
END:VEVENT
BEGIN:VEVENT
DTSTART;VALUE=DATE:20260502
DTEND;VALUE=DATE:20260628
DTSTAMP:20260422T111707
CREATED:20250731T150559Z
LAST-MODIFIED:20260415T032351Z
UID:2327-1777680000-1782604799@dhalsimyogaestudio.com
SUMMARY:Yoga en La Azotea del Hotel Ocean Drive Madrid
DESCRIPTION:Despierta tus sentidos con una experiencia única de yoga al aire libre sobre los tejados de Madrid. Te invitamos a comenzar tu día con una clase de Vinyasa Yoga multinivel en la espectacular azotea del Hotel Ocean Drive de Madrid \n💫 ¿Qué puedes esperar? \n– Una práctica fluida y energizante\, apta para todos los niveles– Increíbles vistas del skyline madrileño– La calidez del sol de la mañana y la brisa suave de la ciudad– Una experiencia que revitaliza cuerpo y mente \nNo importa si eres principiante o tienes experiencia\, esta clase está diseñada para que cada persona pueda encontrar su ritmo\, no hay mejor forma para iniciarte en el yoga. \n¡IMPORTAMTE! No te olvides la esterilla y una botella de agua. Te recomendamos llegar al punto de la actividad 10 minutos antes del inicio de la clase.
URL:https://dhalsimyogaestudio.com/en/event/yogaazotea/
LOCATION:Plaza de Isabel II 7\, CENTRO\, 28013\, Plaza de Isabel II 7\, Madrid\, Madrid\, 28013\, Spain
ATTACH;FMTTYPE=image/png:https://dhalsimyogaestudio.com/wp-content/uploads/2025/07/ChatGPT-Image-31-jul-2025-16_05_27.png
END:VEVENT
END:VCALENDAR