BEGIN:VCALENDAR
VERSION:2.0
PRODID:-//Dhalsim Yoga Estudio - ECPv6.15.20//NONSGML v1.0//EN
CALSCALE:GREGORIAN
METHOD:PUBLISH
X-ORIGINAL-URL:https://dhalsimyogaestudio.com
X-WR-CALDESC:Eventos para Dhalsim Yoga Estudio
REFRESH-INTERVAL;VALUE=DURATION:PT1H
X-Robots-Tag:noindex
X-PUBLISHED-TTL:PT1H
BEGIN:VTIMEZONE
TZID:Europe/Madrid
BEGIN:DAYLIGHT
TZOFFSETFROM:+0100
TZOFFSETTO:+0200
TZNAME:CEST
DTSTART:20240331T010000
END:DAYLIGHT
BEGIN:STANDARD
TZOFFSETFROM:+0200
TZOFFSETTO:+0100
TZNAME:CET
DTSTART:20241027T010000
END:STANDARD
BEGIN:DAYLIGHT
TZOFFSETFROM:+0100
TZOFFSETTO:+0200
TZNAME:CEST
DTSTART:20250330T010000
END:DAYLIGHT
BEGIN:STANDARD
TZOFFSETFROM:+0200
TZOFFSETTO:+0100
TZNAME:CET
DTSTART:20251026T010000
END:STANDARD
BEGIN:DAYLIGHT
TZOFFSETFROM:+0100
TZOFFSETTO:+0200
TZNAME:CEST
DTSTART:20260329T010000
END:DAYLIGHT
BEGIN:STANDARD
TZOFFSETFROM:+0200
TZOFFSETTO:+0100
TZNAME:CET
DTSTART:20261025T010000
END:STANDARD
END:VTIMEZONE
BEGIN:VEVENT
DTSTART;TZID=Europe/Madrid:20250617T070000
DTEND;TZID=Europe/Madrid:20250617T080000
DTSTAMP:20260425T055742
CREATED:20250529T161238Z
LAST-MODIFIED:20250530T023728Z
UID:1210-1750143600-1750147200@dhalsimyogaestudio.com
SUMMARY:Yoga al Amanecer/Online
DESCRIPTION:Una clase de yoga suave al amanecer es una práctica tranquila y relajante que ayuda a despertar el cuerpo y la mente. Se enfoca en estiramientos suaves\, respiración profunda y movimientos fluidos\, creando una sensación de calma y energía positiva para comenzar el día con serenidad y equilibrio. \n  \nInstrucciones para tu clase de yoga online: \n\nDescarga la aplicación de Zoom: Asegúrate de tener la app instalada en tu dispositivo antes de la clase. Puedes hacerlo desde la tienda de aplicaciones de tu móvil o tablet\, o desde su página web para ordenador.\nEnlace de acceso: Enviaremos un correo electrónico con el link para unirte a la clase\, el cual recibirás como máximo dos horas antes de la sesión.\nConfigura tu cámara: Para que la instructora pueda verte bien y hacer los ajustes necesarios\, asegúrate de colocar la cámara de tu dispositivo de manera que se vea claramente tu postura durante la práctica.\nRevisa la conexión antes de la clase: Te recomendamos que pruebes la plataforma con tiempo para asegurarte de que todo funcione correctamente en tu dispositivo. Si tienes dudas o problemas\, podemos hacer una prueba previa a la clase.\nProblemas durante la clase: Una vez que la clase haya comenzado\, no podremos ayudarte a resolver problemas técnicos relacionados con la conexión. Si llegas a experimentar dificultades\, por favor contáctanos para organizar una nueva sesión sin coste adicional.\n\nEstamos aquí para que tu experiencia sea lo más fluida y agradable posible. Si necesitas algo\, ¡no dudes en escribirnos! \n¡Nos vemos en la clase!
URL:https://dhalsimyogaestudio.com/event/yoga-al-amanecer-online-4-2-2/
LOCATION:Online
END:VEVENT
BEGIN:VEVENT
DTSTART;TZID=Europe/Madrid:20250617T090000
DTEND;TZID=Europe/Madrid:20250617T101500
DTSTAMP:20260425T055742
CREATED:20250529T144217Z
LAST-MODIFIED:20250530T040518Z
UID:1197-1750150800-1750155300@dhalsimyogaestudio.com
SUMMARY:Prana Vinyasa Flow(Secuencia solar)/Multinivel/Tierno Galvan
DESCRIPTION:Una práctica dinámica  basada en el movimiento fluido\, ideal para activar el cuerpo\, mejorar la movilidad y liberar tensiones. Prana Vinyasa Flow combina secuencias suaves y repetitivas con respiración consciente para ayudarte a ganar fuerza\, flexibilidad y enfoque.
URL:https://dhalsimyogaestudio.com/event/prana-vinyasa-flowsecuencia-solar-multinivel-tierno-galvan-4-2/
LOCATION:Parque Tierno Galván\, Junto a la estatua de Enrique Tierno Galván\, situada a la derecha de la entrada del planetario.\, MADRID\, Madrid\, 28045\, Spain
END:VEVENT
BEGIN:VEVENT
DTSTART;TZID=Europe/Madrid:20250617T110000
DTEND;TZID=Europe/Madrid:20250617T120000
DTSTAMP:20260425T055742
CREATED:20250530T002454Z
LAST-MODIFIED:20250530T030519Z
UID:1208-1750158000-1750161600@dhalsimyogaestudio.com
SUMMARY:Yoga Postnatal/Online
DESCRIPTION:Clase enfocada en apoyar a las mamás después del nacimiento de su bebé\, ayudándolas a recuperar tono muscular\, movilidad y equilibrio emocional. Mediante movimientos suaves\, respiración consciente y relajación\, se facilita la sanación del cuerpo\, especialmente del área abdominal y pélvica\, mientras se fomenta la tranquilidad y la conexión interna.
URL:https://dhalsimyogaestudio.com/event/yoga-postnatal-online-2-2/
LOCATION:Online
END:VEVENT
BEGIN:VEVENT
DTSTART;TZID=Europe/Madrid:20250617T124500
DTEND;TZID=Europe/Madrid:20250617T140000
DTSTAMP:20260425T055742
CREATED:20250529T164742Z
LAST-MODIFIED:20250530T040437Z
UID:1195-1750164300-1750168800@dhalsimyogaestudio.com
SUMMARY:Prana Vinyasa Flow(Secuencia solar)/Multinivel/El Retiro
DESCRIPTION:Una práctica dinámica  basada en el movimiento fluido\, ideal para activar el cuerpo\, mejorar la movilidad y liberar tensiones. Prana Vinyasa Flow combina secuencias suaves y repetitivas con respiración consciente para ayudarte a ganar fuerza\, flexibilidad y enfoque. \n 
URL:https://dhalsimyogaestudio.com/event/prana-vinyasa-flowsecuencia-solar-multinivel-el-retiro-2-2-2/
LOCATION:Parque El Retiro\, Esta sesión tiene lugar en el Parque de El Retiro en una localización cercana a la Puerta Reina Mercedes\, situada frente al metro Ibiza. Se informará de la localización exacta antes de la práctica.\, Madrid\, 28009\, Spain
END:VEVENT
BEGIN:VEVENT
DTSTART;TZID=Europe/Madrid:20250617T160000
DTEND;TZID=Europe/Madrid:20250617T170000
DTSTAMP:20260425T055742
CREATED:20250531T153825Z
LAST-MODIFIED:20250531T153825Z
UID:1322-1750176000-1750179600@dhalsimyogaestudio.com
SUMMARY:Yoga Embarazadas/Online
DESCRIPTION:Diseñada específicamente para acompañaros  durante el embarazo\, adaptándose a vuestras necesidades físicas y emocionales en cada etapa de la gestación. Estas clases se enfocan en el bienestar integral de la madre y del bebé\, promoviendo una conexión consciente con el cuerpo y la respiración. \nObjetivos principales:\n\nMejorar la postura y aliviar molestias comunes del embarazo como el dolor de espalda\, la hinchazón o el cansancio.\nFortalecer suavemente los músculos clave (suelo pélvico\, abdominales profundos\, piernas y espalda).\nFomentar la relajación y la reducción del estrés.\nPreparar mental y físicamente para el parto.\nEstablecer un espacio de apoyo y conexión con otras futuras madres\n\n  \n  \n  \nInstrucciones para tu clase de yoga online: \n\nDescarga la aplicación de Zoom: Asegúrate de tener la app instalada en tu dispositivo antes de la clase. Puedes hacerlo desde la tienda de aplicaciones de tu móvil o tablet\, o desde su página web para ordenador.\n\nEnlace de acceso: Enviaremos un correo electrónico con el link para unirte a la clase\, el cual recibirás como máximo dos horas antes de la sesión.\n\nConfigura tu cámara: Para que la instructora pueda verte bien y hacer los ajustes necesarios\, asegúrate de colocar la cámara de tu dispositivo de manera que se vea claramente tu postura durante la práctica.\n\nRevisa la conexión antes de la clase: Te recomendamos que pruebes la plataforma con tiempo para asegurarte de que todo funcione correctamente en tu dispositivo. Si tienes dudas o problemas\, podemos hacer una prueba previa a la clase.\n\nProblemas durante la clase: Una vez que la clase haya comenzado\, no podremos ayudarte a resolver problemas técnicos relacionados con la conexión. Si llegas a experimentar dificultades\, por favor contáctanos para organizar una nueva sesión sin coste adicional.\n\n\nEstamos aquí para que tu experiencia sea lo más fluida y agradable posible. Si necesitas algo\, ¡no dudes en escribirnos! \n¡Nos vemos en la clase!
URL:https://dhalsimyogaestudio.com/event/yoga-embarazadas-online-12/
LOCATION:Online
END:VEVENT
BEGIN:VEVENT
DTSTART;TZID=Europe/Madrid:20250617T173000
DTEND;TZID=Europe/Madrid:20250617T194500
DTSTAMP:20260425T055742
CREATED:20250531T182725Z
LAST-MODIFIED:20250531T182725Z
UID:1468-1750181400-1750189500@dhalsimyogaestudio.com
SUMMARY:Prana Vinyasa Flow(Secuencia solar)/Multinivel/El Retiro
DESCRIPTION:Prana Vinyasa Flow(Secuencia solar)/Multinivel/El Retiro \nUna práctica dinámica  basada en el movimiento fluido\, ideal para activar el cuerpo\, mejorar la movilidad y liberar tensiones. Prana Vinyasa Flow combina secuencias suaves y repetitivas con respiración consciente para ayudarte a ganar fuerza\, flexibilidad y enfoque.
URL:https://dhalsimyogaestudio.com/event/prana-vinyasa-flowsecuencia-solar-multinivel-el-retiro-10/
LOCATION:Parque El Retiro\, Esta sesión tiene lugar en el Parque de El Retiro en una localización cercana a la Puerta Reina Mercedes\, situada frente al metro Ibiza. Se informará de la localización exacta antes de la práctica.\, Madrid\, 28009\, Spain
END:VEVENT
BEGIN:VEVENT
DTSTART;TZID=Europe/Madrid:20250617T200000
DTEND;TZID=Europe/Madrid:20250617T211500
DTSTAMP:20260425T055742
CREATED:20250531T182923Z
LAST-MODIFIED:20250531T182923Z
UID:1471-1750190400-1750194900@dhalsimyogaestudio.com
SUMMARY:Prana Vinyasa Flow (Secuencia solar)/Principiantes/Retiro
DESCRIPTION:Introducción a los principios de Prana Vinyasa a través de movimientos fluidos sincronizados con la respiración\, para cultivar estabilidad\, arraigo y presencia.
URL:https://dhalsimyogaestudio.com/event/prana-vinyasa-flow-secuencia-solar-principiantes-retiro-14/
LOCATION:Parque El Retiro\, Esta sesión tiene lugar en el Parque de El Retiro en una localización cercana a la Puerta Reina Mercedes\, situada frente al metro Ibiza. Se informará de la localización exacta antes de la práctica.\, Madrid\, 28009\, Spain
END:VEVENT
END:VCALENDAR