BEGIN:VCALENDAR
VERSION:2.0
PRODID:-//Dhalsim Yoga Estudio - ECPv6.15.20//NONSGML v1.0//EN
CALSCALE:GREGORIAN
METHOD:PUBLISH
X-ORIGINAL-URL:https://dhalsimyogaestudio.com
X-WR-CALDESC:Eventos para Dhalsim Yoga Estudio
REFRESH-INTERVAL;VALUE=DURATION:PT1H
X-Robots-Tag:noindex
X-PUBLISHED-TTL:PT1H
BEGIN:VTIMEZONE
TZID:Europe/Madrid
BEGIN:DAYLIGHT
TZOFFSETFROM:+0100
TZOFFSETTO:+0200
TZNAME:CEST
DTSTART:20250330T010000
END:DAYLIGHT
BEGIN:STANDARD
TZOFFSETFROM:+0200
TZOFFSETTO:+0100
TZNAME:CET
DTSTART:20251026T010000
END:STANDARD
BEGIN:DAYLIGHT
TZOFFSETFROM:+0100
TZOFFSETTO:+0200
TZNAME:CEST
DTSTART:20260329T010000
END:DAYLIGHT
BEGIN:STANDARD
TZOFFSETFROM:+0200
TZOFFSETTO:+0100
TZNAME:CET
DTSTART:20261025T010000
END:STANDARD
BEGIN:DAYLIGHT
TZOFFSETFROM:+0100
TZOFFSETTO:+0200
TZNAME:CEST
DTSTART:20270328T010000
END:DAYLIGHT
BEGIN:STANDARD
TZOFFSETFROM:+0200
TZOFFSETTO:+0100
TZNAME:CET
DTSTART:20271031T010000
END:STANDARD
END:VTIMEZONE
BEGIN:VEVENT
DTSTART;TZID=Europe/Madrid:20260112T113000
DTEND;TZID=Europe/Madrid:20260112T123000
DTSTAMP:20260423T043526
CREATED:20260109T182130Z
LAST-MODIFIED:20260110T111442Z
UID:4342-1768217400-1768221000@dhalsimyogaestudio.com
SUMMARY:Yoga Bebé y mamá/Online
DESCRIPTION:Yoga Mamá y Bebé: Un espacio de conexión desde casa \nDisfruta de un momento único para ti y tu bebé sin salir de casa. En nuestras sesiones online\, trabajamos la recuperación física postparto\, y el fortalecimiento del vínculo afectivo mediante juegos y estiramientos suaves. \n\n\n¿Cómo funciona? Las clases se realizan en directo a través de la plataforma Zoom. La profesora te lo mandará como tarde media hora antes del inicio de la práctica. \n\n\nRequisito importante: Para tu seguridad y la de tu bebé\, es necesario contar con el alta médica o permiso de tu doctor para realizar actividad física. \n\nRellenar el cuestionario de salud Postparto/bebé y mamá que recibirás en el email de confirmación de compra.
URL:https://dhalsimyogaestudio.com/event/yoga-bebe-y-mama/
LOCATION:Online
ATTACH;FMTTYPE=image/png:https://dhalsimyogaestudio.com/wp-content/uploads/2026/01/8ef7bc05-9bfd-4850-ac19-28019fd80c7a.png
END:VEVENT
BEGIN:VEVENT
DTSTART;TZID=Europe/Madrid:20260112T180000
DTEND;TZID=Europe/Madrid:20260112T190000
DTSTAMP:20260423T043526
CREATED:20260109T182424Z
LAST-MODIFIED:20260110T111547Z
UID:4344-1768240800-1768244400@dhalsimyogaestudio.com
SUMMARY:Yoga Bebé y mamá/Online
DESCRIPTION:Yoga Mamá y Bebé: Un espacio de conexión desde casa \nDisfruta de un momento único para ti y tu bebé sin salir de casa. En nuestras sesiones online\, trabajamos la recuperación física postparto\, y el fortalecimiento del vínculo afectivo mediante juegos y estiramientos suaves. \n\n\n¿Cómo funciona? Las clases se realizan en directo a través de la plataforma Zoom. La profesora te lo mandará como tarde media hora antes del inicio de la práctica. \n\n\nRequisito importante: Para tu seguridad y la de tu bebé\, es necesario contar con el alta médica o permiso de tu doctor para realizar actividad física. \n\nRellenar el cuestionario de salud Postparto/bebé y mamá que recibirás en el email de confirmación de compra.
URL:https://dhalsimyogaestudio.com/event/yoga-bebe-y-mama-2/
LOCATION:Online
ATTACH;FMTTYPE=image/png:https://dhalsimyogaestudio.com/wp-content/uploads/2026/01/8ef7bc05-9bfd-4850-ac19-28019fd80c7a.png
END:VEVENT
END:VCALENDAR